BEGIN:VCALENDAR
VERSION:2.0
PRODID:-//International PMO Day - ECPv6.0.12//NONSGML v1.0//EN
CALSCALE:GREGORIAN
METHOD:PUBLISH
X-ORIGINAL-URL:https://internationalpmoday.com
X-WR-CALDESC:Events for International PMO Day
REFRESH-INTERVAL;VALUE=DURATION:PT1H
X-Robots-Tag:noindex
X-PUBLISHED-TTL:PT1H
BEGIN:VTIMEZONE
TZID:UTC
BEGIN:STANDARD
TZOFFSETFROM:+0000
TZOFFSETTO:+0000
TZNAME:UTC
DTSTART:20240101T000000
END:STANDARD
END:VTIMEZONE
BEGIN:VEVENT
DTSTART;TZID=UTC:20240522T080000
DTEND;TZID=UTC:20240522T170000
DTSTAMP:20260422T195816
CREATED:20240509T100603Z
LAST-MODIFIED:20240509T100603Z
UID:27642-1716364800-1716397200@internationalpmoday.com
SUMMARY:1st Africa PMO Conference
DESCRIPTION:Welcome to the inaugural African PMO Conference\, a groundbreaking event\, hosted by THE PMO LEADER and designed to ignite collaboration\, innovation\, and excellence in project management offices (PMOs) across the African continent. \nWith the aim of fostering a vibrant and resilient project management community\, this conference serves as a platform for professionals\, thought leaders\, and visionaries to come together and explore the latest trends\, strategies\, and best practices in PMO management.
URL:https://internationalpmoday.com/intlpmoevent/1st-africa-pmo-conference/
CATEGORIES:14th May 2024
ATTACH;FMTTYPE=image/png:https://internationalpmoday.com/wp-content/uploads/2024/05/africaconference-.png
END:VEVENT
END:VCALENDAR