BEGIN:VCALENDAR
VERSION:2.0
PRODID:-//International PMO Day - ECPv6.0.12//NONSGML v1.0//EN
CALSCALE:GREGORIAN
METHOD:PUBLISH
X-ORIGINAL-URL:https://internationalpmoday.com
X-WR-CALDESC:Events for International PMO Day
REFRESH-INTERVAL;VALUE=DURATION:PT1H
X-Robots-Tag:noindex
X-PUBLISHED-TTL:PT1H
BEGIN:VTIMEZONE
TZID:Europe/London
BEGIN:DAYLIGHT
TZOFFSETFROM:+0000
TZOFFSETTO:+0100
TZNAME:BST
DTSTART:20240331T010000
END:DAYLIGHT
BEGIN:STANDARD
TZOFFSETFROM:+0100
TZOFFSETTO:+0000
TZNAME:GMT
DTSTART:20241027T010000
END:STANDARD
END:VTIMEZONE
BEGIN:VEVENT
DTSTART;TZID=Europe/London:20240514T120000
DTEND;TZID=Europe/London:20240514T130000
DTSTAMP:20260424T193800
CREATED:20240321T112139Z
LAST-MODIFIED:20240421T174617Z
UID:27523-1715688000-1715691600@internationalpmoday.com
SUMMARY:International PMO Day Special – Communities of Practice - from House of PMO (12-1 BST | 11-12 UTC)
DESCRIPTION:Join us on this special day – International PMO Day – as we focus on one of the ways that PMOs contribute to an organisation’s continuous learning culture by bringing learning into the ‘flow of work’ with communities of practice. \nWhat better day to learn about communities of practice by joining your own community of practice at the House of PMO! \nIn this session we focus on what communities of practice are and how the PMO can take responsibility for running them. We will look at the three-part process of initiating\, supporting\, and sustaining communities of practice within organisations. \nAnd because it is International PMO Day\, we will also be sharing ideas on what to include within PMO focused communities of practice that help bring your PMO team together. \nThe session is open to all PMO practitioners!
URL:https://internationalpmoday.com/intlpmoevent/international-pmo-day-special-communities-of-practice-from-house-of-pmo/
CATEGORIES:14th May 2024
ATTACH;FMTTYPE=image/webp:https://internationalpmoday.com/wp-content/uploads/2024/03/intl-pmo-day-communities-of-practice-01.webp
END:VEVENT
END:VCALENDAR